BEGIN:VCALENDAR
VERSION:2.0
PRODID:-//Library Market//iCal Export//EN
BEGIN:VEVENT
SUMMARY:Tie-Dye Party
UID:44667
DTSTAMP:20260421T110900Z
DTSTART:20260707T210000Z
DTEND:20260707T230000Z
LOCATION:1110 East Seventh Street, Winston-Salem, NC 27101, United States
ROOM: MJEWHC Auditorium
DESCRIPTION:Malloy/Jordan East Winston Heritage Center will be hosting a F
 REE tie-dye class. All you need to do is bring a clean white/light colored
  shirt with you. All dyeing materials will be provided. 
URL:https://forsythcounty.librarycalendar.com/event/tie-dye-party-44667
END:VEVENT
END:VCALENDAR
