BEGIN:VCALENDAR
VERSION:2.0
PRODID:-//Library Market//iCal Export//EN
BEGIN:VEVENT
SUMMARY:Moms&#039; Craft Night Out
UID:50161
DTSTAMP:20260419T155700Z
DTSTART:20260803T220000Z
DTEND:20260803T233000Z
LOCATION:7125 Broad Street, Rural Hall, NC 27045, United States
ROOM: Rural Hall Auditorium
DESCRIPTION:Schedule some time just for you and join us for conversation, 
 crafts, and snacks.In August we&#039;ll make a mandala coaster.Supplies ar
 e limited. Registration is required. 
URL:https://forsythcounty.librarycalendar.com/event/moms-craft-night-out-5
 0161
END:VEVENT
END:VCALENDAR
