BEGIN:VCALENDAR
VERSION:2.0
PRODID:-//Library Market//iCal Export//EN
BEGIN:VEVENT
SUMMARY:Neveen Cross
UID:50511
DTSTAMP:20260421T044500Z
DTSTART:20260422T203000Z
DTEND:20260422T223000Z
LOCATION:6490 Shallowford Road, Lewisville, NC 27023, United States
ROOM: Lewisville Study Room 1
DESCRIPTION:Tutor/study
URL:https://forsythcounty.librarycalendar.com/event/neveen-cross-50511
END:VEVENT
END:VCALENDAR
