BEGIN:VCALENDAR
VERSION:2.0
PRODID:-//Library Market//iCal Export//EN
BEGIN:VEVENT
SUMMARY:Moms&#039; Craft Night Out
UID:50542
DTSTAMP:20260421T110900Z
DTSTART:20260504T220000Z
DTEND:20260504T233000Z
LOCATION:7125 Broad Street, Rural Hall, NC 27045, United States
ROOM: Rural Hall Auditorium
DESCRIPTION:Schedule some time just for you and join us for conversation, 
 crafts, and snacks.In May we will do a paint by number.Supplies are limite
 d. Registration is required. 
URL:https://forsythcounty.librarycalendar.com/event/moms-craft-night-out-5
 0542
END:VEVENT
END:VCALENDAR
