BEGIN:VCALENDAR
VERSION:2.0
PRODID:-//Library Market//iCal Export//EN
BEGIN:VEVENT
SUMMARY:Meeting
UID:50777
DTSTAMP:20260426T041500Z
DTSTART:20260427T223000Z
DTEND:20260427T233000Z
LOCATION:Carver School Road Branch Library, 4915 Lansing Dr., Winston Sale
 m, NC 27105, United States
ROOM: Carver School Road Conference Room
DESCRIPTION:meeting
URL:https://forsythcounty.librarycalendar.com/event/meeting-50777
END:VEVENT
END:VCALENDAR
