BEGIN:VCALENDAR
VERSION:2.0
PRODID:-//Library Market//iCal Export//EN
BEGIN:VEVENT
SUMMARY:Computer Camp Creating a Business Card
UID:50832
DTSTAMP:20260423T093400Z
DTSTART:20260422T150000Z
DTEND:20260422T163000Z
LOCATION:660 W 5th, Winston-Salem, NC 27101, United States
ROOM: Central Computer Training Bridge Lab
DESCRIPTION:Learn how to design a simple, professional business card using
  Google Docs. This class covers setting up your layout, adding your contac
 t information, inserting images and formatting the card. Students will fin
 ish with a ready-to-use business card they created themselves.FYI: Must br
 ing working cell phone to class and USB flash drive.
URL:https://forsythcounty.librarycalendar.com/event/computer-camp-creating
 -business-card-50832
END:VEVENT
END:VCALENDAR
