BEGIN:VCALENDAR
VERSION:2.0
PRODID:-//Library Market//iCal Export//EN
BEGIN:VEVENT
SUMMARY:Book Meet &amp; Greet with Melba Moore
UID:50853
DTSTAMP:20260423T041800Z
DTSTART:20260608T220000Z
DTEND:20260608T230000Z
LOCATION:660 W 5th, Winston-Salem, NC 27101, United States
ROOM: Book Meet &amp; Greet with Melba Moore
DESCRIPTION:Tony-award winner Melba Moore will be in conversation with Kev
 in E. Taylor about her life, music, and legacy through a discussion of her
  book, This is It: Marvelous and Getting Better. Copies of her book can b
 e purchased from Amazon, and Melba Moore will sign books and be available 
 for photographs after the event. Space is limited. Registration required.
  
URL:https://forsythcounty.librarycalendar.com/event/book-meet-greet-melba-
 moore-50853
END:VEVENT
END:VCALENDAR
